BEGIN:VCALENDAR
VERSION:2.0
PRODID:-//eventon.com NONSGML v1.0//EN
BEGIN:VEVENT
UID:69e73b426759a
DTSTAMP:20260421T035426
DTSTART:20230421T210000Z
DTEND:20230422T010000Z
TZID:America/Chicago
LOCATION:Hayes&#039; Public House 112 1st St S
SUMMARY:Hayes' Public House
DESCRIPTION: Hayes' Public House\nhttps://ohmbrownies.com/events/hayes-public-house/
URL:https://ohmbrownies.com/events/hayes-public-house/
END:VEVENT
END:VCALENDAR