BEGIN:VCALENDAR
VERSION:2.0
PRODID:-//eventon.com NONSGML v1.0//EN
BEGIN:VEVENT
UID:69e73ec4aa573
DTSTAMP:20260421T040924
DTSTART:20230826T170000Z
DTEND:20230827T000000Z
TZID:America/Chicago
LOCATION:Back Channel Brewing 4787 Shoreline Drive
SUMMARY:BACK CHANNEL BREWERY | SPRING PARK
DESCRIPTION: BACK CHANNEL BREWERY | SPRING PARK\nhttps://ohmbrownies.com/events/back-channel-brewery/
URL:https://ohmbrownies.com/events/back-channel-brewery/
END:VEVENT
END:VCALENDAR