BEGIN:VCALENDAR
VERSION:2.0
PRODID:-//eventon.com NONSGML v1.0//EN
BEGIN:VEVENT
UID:69e73e69b6775
DTSTAMP:20260421T040753
DTSTART:20240412T200000Z
DTEND:20240413T000000Z
TZID:America/Chicago
LOCATION:Hayes&#039; Public House 112 1st St S
SUMMARY:BUFFALO | HAYES' PUBLIC HOUSE BREWERY & TAPROOM
DESCRIPTION: BUFFALO | HAYES' PUBLIC HOUSE BREWERY & TAPROOM\nhttps://ohmbrownies.com/events/buffalo-hayes-public-house-brewery-taproom/
URL:https://ohmbrownies.com/events/buffalo-hayes-public-house-brewery-taproom/
END:VEVENT
END:VCALENDAR