BEGIN:VCALENDAR
VERSION:2.0
PRODID:-//eventon.com NONSGML v1.0//EN
BEGIN:VEVENT
UID:69e73e5bc8bce
DTSTAMP:20260421T040739
DTSTART:20240602T170000Z
DTEND:20240603T000000Z
TZID:America/Chicago
LOCATION:MINERAL SPRINGS BREWERY 111 N WALNUT AVE
SUMMARY:OWATONNA | MINERAL SPRINGS BREWERY
DESCRIPTION: OWATONNA | MINERAL SPRINGS BREWERY\nhttps://ohmbrownies.com/events/owatonna-mineral-springs-brewery/
URL:https://ohmbrownies.com/events/owatonna-mineral-springs-brewery/
END:VEVENT
END:VCALENDAR