BEGIN:VCALENDAR
VERSION:2.0
PRODID:-//eventon.com NONSGML v1.0//EN
BEGIN:VEVENT
UID:69e73ed695768
DTSTAMP:20260421T040942
DTSTART:20250131
DTEND:20250201
TZID:America/Chicago
LOCATION:3M Mariucci Arena 1901 4th St SE
SUMMARY:GOPHERS VS. BADGERS
DESCRIPTION: GOPHERS VS. BADGERS\nhttps://ohmbrownies.com/events/gophers-vs-badgers/
URL:https://ohmbrownies.com/events/gophers-vs-badgers/
END:VEVENT
END:VCALENDAR