BEGIN:VCALENDAR
VERSION:2.0
PRODID:-//eventon.com NONSGML v1.0//EN
BEGIN:VEVENT
UID:69e5ed94e12cf
DTSTAMP:20260420T041044
DTSTART:20250411T190000Z
DTEND:20250411T230000Z
TZID:America/Chicago
LOCATION:Cub Foods | Cottage Grove 8690 E Point Douglas Rd S
SUMMARY:COTTAGE GROVE | CUB FOODS
DESCRIPTION: COTTAGE GROVE | CUB FOODS\nhttps://ohmbrownies.com/events/cottage-grove-cub-foods-5/
URL:https://ohmbrownies.com/events/cottage-grove-cub-foods-5/
END:VEVENT
END:VCALENDAR