BEGIN:VCALENDAR
VERSION:2.0
PRODID:-//eventon.com NONSGML v1.0//EN
BEGIN:VEVENT
UID:69e73abb9d5f2
DTSTAMP:20260421T035211
DTSTART:20250418T043000Z
DTEND:20250417T220000Z
TZID:America/Chicago
LOCATION:Cub Foods | Cottage Grove 8690 E Point Douglas Rd S
SUMMARY:COTTAGE GROVE | CUB FOODS
DESCRIPTION: \nhttps://ohmbrownies.com/events/cottage-grove-cub-foods-7/
URL:https://ohmbrownies.com/events/cottage-grove-cub-foods-7/
END:VEVENT
END:VCALENDAR