BEGIN:VCALENDAR
VERSION:2.0
PRODID:-//eventon.com NONSGML v1.0//EN
BEGIN:VEVENT
UID:69e772083f384
DTSTAMP:20260421T074808
DTSTART:20250618T040000Z
DTEND:20250617T183000Z
TZID:America/Chicago
LOCATION:
SUMMARY:CORPORATE EVENT
DESCRIPTION: CORPORATE EVENT\nhttps://ohmbrownies.com/events/corporate-event-21/
URL:https://ohmbrownies.com/events/corporate-event-21/
END:VEVENT
END:VCALENDAR