BEGIN:VCALENDAR
VERSION:2.0
PRODID:-//eventon.com NONSGML v1.0//EN
BEGIN:VEVENT
UID:69e620675d546
DTSTAMP:20260420T074735
DTSTART:20250720T160000Z
DTEND:20250720T220000Z
TZID:America/Chicago
LOCATION:Fleet Farm | Lakeville 17070 Kenrick Ave
SUMMARY:LAKEVILLE | FLEET FARM
DESCRIPTION: LAKEVILLE | FLEET FARM\nhttps://ohmbrownies.com/events/lakeville-fleet-farm-10/
URL:https://ohmbrownies.com/events/lakeville-fleet-farm-10/
END:VEVENT
END:VCALENDAR