BEGIN:VCALENDAR
VERSION:2.0
PRODID:-//eventon.com NONSGML v1.0//EN
BEGIN:VEVENT
UID:69e4cf145f85b
DTSTAMP:20260419T074820
DTSTART:20260613T200000Z
DTEND:20260614T030000Z
TZID:America/Chicago
LOCATION:Texas Roadhouse | Coon Rapids 2780 Main St NW
SUMMARY:COON RAPIDS | TEXAS ROADHOUSE
DESCRIPTION: COON RAPIDS | TEXAS ROADHOUSE\nhttps://ohmbrownies.com/events/coon-rapids-texas-roadhouse-25/
URL:https://ohmbrownies.com/events/coon-rapids-texas-roadhouse-25/
END:VEVENT
END:VCALENDAR